BEGIN:VCALENDAR
VERSION:2.0
PRODID:-//Willkommen beim Ski-Club Bad S&auml;ckingen e.V. - ECPv6.15.20//NONSGML v1.0//EN
CALSCALE:GREGORIAN
METHOD:PUBLISH
X-WR-CALNAME:Willkommen beim Ski-Club Bad S&auml;ckingen e.V.
X-ORIGINAL-URL:https://skiclub-bad-saeckingen.de
X-WR-CALDESC:Veranstaltungen für Willkommen beim Ski-Club Bad S&auml;ckingen e.V.
REFRESH-INTERVAL;VALUE=DURATION:PT1H
X-Robots-Tag:noindex
X-PUBLISHED-TTL:PT1H
BEGIN:VTIMEZONE
TZID:UTC
BEGIN:STANDARD
TZOFFSETFROM:+0000
TZOFFSETTO:+0000
TZNAME:UTC
DTSTART:20250101T000000
END:STANDARD
END:VTIMEZONE
BEGIN:VEVENT
DTSTART;TZID=UTC:20261107T093000
DTEND;TZID=UTC:20261107T140000
DTSTAMP:20260422T203934
CREATED:20260129T140401Z
LAST-MODIFIED:20260129T140401Z
UID:18321-1794043800-1794060000@skiclub-bad-saeckingen.de
SUMMARY:SCS Brettlemarkt / Ski- und Snowbaordbörse
DESCRIPTION:  \nAm Samstag\, dem 07. November findet der diesjährige Brettlemarkt des Ski-Club Bad Säckingen statt. Wie immer findet Ihr günstige Ausrüstung für den kommenden Winter in der Flößerhalle in Wallbach. \n\n\n\nAnnahme\nvon\n09:30 – 11:00 Uhr\n\n\nVerkauf\nvon\n11:30 – 13:00 Uhr\n\n\nRückgabe\nvon\n13:00 – 14:00 Uhr\n\n\n\nWir freuen uns auf zahlreiche Anbieter und Käufer. \nUnsere Jugendabteilung sorgt für das leibliche Wohl.
URL:https://skiclub-bad-saeckingen.de/event/scs-brettlemarkt-ski-und-snowbaordboerse-2/
LOCATION:Flößerhalle Wallbach\, Steinenstr. 20\, Bad Säckingen / Wallbach\, Baden-Württemberg\, 79713\, Germany
CATEGORIES:Ski- und Snowboardbörse
ATTACH;FMTTYPE=image/jpeg:https://skiclub-bad-saeckingen.de/wp-content/uploads/2025/10/IMG_0724.jpeg
END:VEVENT
BEGIN:VEVENT
DTSTART;TZID=UTC:20261127T193000
DTEND;TZID=UTC:20261127T213000
DTSTAMP:20260422T203934
CREATED:20260129T141037Z
LAST-MODIFIED:20260219T064244Z
UID:18323-1795807800-1795815000@skiclub-bad-saeckingen.de
SUMMARY:SCS Mitgliederversammlung 2026
DESCRIPTION:Die diesjährige Mitgliederversammlung findet um 19:30 Uhr am 27. November 2026 im Scheffelhof\, Restaurant ChickNicks\, Schulhausstr. 17 in Bad Säckingen statt. Einladung und Agenda werden hier rechtzeitig veröffentlicht.
URL:https://skiclub-bad-saeckingen.de/event/scs-mitgliederversammlung-2026/
LOCATION:Scheffelhof Restaurant CHICKNICK’s\, Schulhausstr. 17\, Bad Säckingen\, Baden-Württemberg\, 79713\, Germany
CATEGORIES:Mitgliederhauptversammlung
ATTACH;FMTTYPE=image/gif:https://skiclub-bad-saeckingen.de/wp-content/uploads/2014/11/SCS-Logo-30-Prozent.gif
END:VEVENT
END:VCALENDAR