BEGIN:VCALENDAR
VERSION:2.0
PRODID:-//Willkommen beim Ski-Club Bad S&auml;ckingen e.V. - ECPv6.15.20//NONSGML v1.0//EN
CALSCALE:GREGORIAN
METHOD:PUBLISH
X-ORIGINAL-URL:https://skiclub-bad-saeckingen.de
X-WR-CALDESC:Veranstaltungen für Willkommen beim Ski-Club Bad S&auml;ckingen e.V.
REFRESH-INTERVAL;VALUE=DURATION:PT1H
X-Robots-Tag:noindex
X-PUBLISHED-TTL:PT1H
BEGIN:VTIMEZONE
TZID:UTC
BEGIN:STANDARD
TZOFFSETFROM:+0000
TZOFFSETTO:+0000
TZNAME:UTC
DTSTART:20250101T000000
END:STANDARD
END:VTIMEZONE
BEGIN:VEVENT
DTSTART;VALUE=DATE:20260102
DTEND;VALUE=DATE:20260106
DTSTAMP:20260421T161649
CREATED:20250728T125700Z
LAST-MODIFIED:20250801T121350Z
UID:17054-1767312000-1767657599@skiclub-bad-saeckingen.de
SUMMARY:Jugend- und Familienfreizeit - Arosa Lenzerheide
DESCRIPTION:Anmeldungen über skischule@sc-bad-saeckingen.de oder am November im Online-Shop.
URL:https://skiclub-bad-saeckingen.de/event/jugend-und-familienfreizeit-arosa-lenzerheide/
LOCATION:Skigebiet Arosa/Lenzerheide\, Switzerland
CATEGORIES:Alpinski,Snowboard
ATTACH;FMTTYPE=image/gif:https://skiclub-bad-saeckingen.de/wp-content/uploads/2014/11/SCS-Logo-30-Prozent.gif
END:VEVENT
END:VCALENDAR