BEGIN:VCALENDAR
VERSION:2.0
PRODID:-//Willkommen beim Ski-Club Bad S&auml;ckingen e.V. - ECPv6.15.20//NONSGML v1.0//EN
CALSCALE:GREGORIAN
METHOD:PUBLISH
X-ORIGINAL-URL:https://skiclub-bad-saeckingen.de
X-WR-CALDESC:Veranstaltungen für Willkommen beim Ski-Club Bad S&auml;ckingen e.V.
REFRESH-INTERVAL;VALUE=DURATION:PT1H
X-Robots-Tag:noindex
X-PUBLISHED-TTL:PT1H
BEGIN:VTIMEZONE
TZID:UTC
BEGIN:STANDARD
TZOFFSETFROM:+0000
TZOFFSETTO:+0000
TZNAME:UTC
DTSTART:20250101T000000
END:STANDARD
END:VTIMEZONE
BEGIN:VEVENT
DTSTART;VALUE=DATE:20260123
DTEND;VALUE=DATE:20260126
DTSTAMP:20260425T175633
CREATED:20250802T204000Z
LAST-MODIFIED:20251224T101913Z
UID:17074-1769126400-1769385599@skiclub-bad-saeckingen.de
SUMMARY:2. DSV E.INFRA Schülercup Biathlon in Altenberg
DESCRIPTION:Ausschreibung
URL:https://skiclub-bad-saeckingen.de/event/2-deutscher-schueler-cup-biathlon/
LOCATION:Biathlon Sparkassen-Arena Altenberg\, Parkplatz an der Zinnwalder Strasse\, Altenberg\, Sachsen\, 01773\, Germany
CATEGORIES:Biathlon-Wettkampf
ATTACH;FMTTYPE=image/jpeg:https://skiclub-bad-saeckingen.de/wp-content/uploads/2023/06/IMG_1096.jpeg
END:VEVENT
END:VCALENDAR