BEGIN:VCALENDAR
VERSION:2.0
PRODID:-//Willkommen beim Ski-Club Bad S&auml;ckingen e.V. - ECPv6.15.20//NONSGML v1.0//EN
CALSCALE:GREGORIAN
METHOD:PUBLISH
X-WR-CALNAME:Willkommen beim Ski-Club Bad S&auml;ckingen e.V.
X-ORIGINAL-URL:https://skiclub-bad-saeckingen.de
X-WR-CALDESC:Veranstaltungen für Willkommen beim Ski-Club Bad S&auml;ckingen e.V.
REFRESH-INTERVAL;VALUE=DURATION:PT1H
X-Robots-Tag:noindex
X-PUBLISHED-TTL:PT1H
BEGIN:VTIMEZONE
TZID:UTC
BEGIN:STANDARD
TZOFFSETFROM:+0000
TZOFFSETTO:+0000
TZNAME:UTC
DTSTART:20250101T000000
END:STANDARD
END:VTIMEZONE
BEGIN:VEVENT
DTSTART;VALUE=DATE:20260226
DTEND;VALUE=DATE:20260302
DTSTAMP:20260420T160316
CREATED:20250802T205833Z
LAST-MODIFIED:20260209T105855Z
UID:17085-1772064000-1772409599@skiclub-bad-saeckingen.de
SUMMARY:4. DSV E.INFRA Schülercup Biathlon - Großes Finale in Oberwiesenthal
DESCRIPTION:Ausschreibung.
URL:https://skiclub-bad-saeckingen.de/event/4-deutscher-schueler-cup-grosses-finale/
LOCATION:Sparkassen-Skiarena Oberwiesenthal\, Fichtelbergstraße\, Oberwiesenthal\, Sachsen\, 09484\, Germany
CATEGORIES:Biathlon-Wettkampf
ATTACH;FMTTYPE=image/jpeg:https://skiclub-bad-saeckingen.de/wp-content/uploads/2023/06/IMG_1096.jpeg
END:VEVENT
END:VCALENDAR